BEGIN:VCALENDAR
VERSION:2.0
PRODID:-//CALL - ECPv6.15.20//NONSGML v1.0//EN
CALSCALE:GREGORIAN
METHOD:PUBLISH
X-WR-CALNAME:CALL
X-ORIGINAL-URL:https://callleadershipandlearning.com
X-WR-CALDESC:Evenementen voor CALL
REFRESH-INTERVAL;VALUE=DURATION:PT1H
X-Robots-Tag:noindex
X-PUBLISHED-TTL:PT1H
BEGIN:VTIMEZONE
TZID:Europe/Amsterdam
BEGIN:DAYLIGHT
TZOFFSETFROM:+0100
TZOFFSETTO:+0200
TZNAME:CEST
DTSTART:20220327T010000
END:DAYLIGHT
BEGIN:STANDARD
TZOFFSETFROM:+0200
TZOFFSETTO:+0100
TZNAME:CET
DTSTART:20221030T010000
END:STANDARD
BEGIN:DAYLIGHT
TZOFFSETFROM:+0100
TZOFFSETTO:+0200
TZNAME:CEST
DTSTART:20230326T010000
END:DAYLIGHT
BEGIN:STANDARD
TZOFFSETFROM:+0200
TZOFFSETTO:+0100
TZNAME:CET
DTSTART:20231029T010000
END:STANDARD
BEGIN:DAYLIGHT
TZOFFSETFROM:+0100
TZOFFSETTO:+0200
TZNAME:CEST
DTSTART:20240331T010000
END:DAYLIGHT
BEGIN:STANDARD
TZOFFSETFROM:+0200
TZOFFSETTO:+0100
TZNAME:CET
DTSTART:20241027T010000
END:STANDARD
END:VTIMEZONE
BEGIN:VEVENT
DTSTART;VALUE=DATE:20230207
DTEND;VALUE=DATE:20230208
DTSTAMP:20260420T110003
CREATED:20220207T105418Z
LAST-MODIFIED:20221118T162606Z
UID:2133-1675728000-1675814399@callleadershipandlearning.com
SUMMARY:Masterclass lichaamstaal
DESCRIPTION:Aan de hand van theorie\, video- en fotovoorbeelden\, maar vooral ook veel praktijkoefeningen vergroot u uw sensor voor de waarneming van lichaamstaal\, met een extra focus op de jonge werknemer. U krijgt tools aangereikt om waar te nemen met hoofd\, hart en buik. Door daadwerkelijk in verbinding te staan met uzelf en de ander\, kunt u beter reageren op wat er speelt en wat nodig is. Zo creëert u een veilige (werk)omgeving waarin de jongere zich meer durft te laten zien en kan groeien.
URL:https://callleadershipandlearning.com/event/masterclass-lichaamstaal/
LOCATION:Conferentiecentrum Samaya\, Hollendewagenweg 20\, Werkhoven\, 3985SG\, Netherlands
CATEGORIES:Masterclasses
END:VEVENT
END:VCALENDAR